BEGIN:VCALENDAR
VERSION:2.0
PRODID:-//kulturkreis-abbach.de//NONSGML kigkonsult.se iCalcreator 2.41.92//
CALSCALE:GREGORIAN
METHOD:PUBLISH
UID:37623661-3636-4063-a662-356333353830
X-WR-CALNAME:iCagenda
X-WR-CALDESC:Event Management Extension for Joomla!
X-WR-RELCALID:3E26604A-50F4-4449-8B3E-E4F4932D05B5
X-WR-TIMEZONE:Europe/Berlin
BEGIN:VTIMEZONE
TZID:Europe/Berlin
TZUNTIL:20280326T010000Z
BEGIN:STANDARD
TZNAME:CET
DTSTART:20251026T030000
TZOFFSETFROM:+0200
TZOFFSETTO:+0100
RDATE:20261025T030000
RDATE:20271031T030000
END:STANDARD
BEGIN:DAYLIGHT
TZNAME:CEST
DTSTART:20260329T020000
TZOFFSETFROM:+0100
TZOFFSETTO:+0200
RDATE:20270328T020000
END:DAYLIGHT
END:VTIMEZONE
BEGIN:VEVENT
UID:32656561-3238-4564-b262-306430313663
DTSTAMP:20260421T105018Z
CATEGORIES:Mittagsandacht
CLASS:PUBLIC
DESCRIPTION;ALTREP="CID:<FFFF__=0ABBE548DFE235B58f9e8a93d@coffeebean.com>":
 Swetlana Wolf (Geige)\, Aleksander Huber (Cello)\, Steffi Specht (Orgel)\n
 &nbsp\; &nbsp\;&nbsp\;&nbsp\;
DTSTART:20260503T095500Z
DTEND:20260503T095500Z
GEO:00;0
LOCATION:
ORGANIZER:
SEQUENCE:1
SUMMARY:Mittagsandacht gestaltet von Swetlana Wolf\, Aleksander Huber und S
 tephanie Specht
TRANSP:OPAQUE
URL:https://www.kulturkreis-abbach.de/mittagsandacht/termine/56-mittagsanda
 cht-gestaltet-von-swetlana-wolf-aleksander-huber-und-stephanie-specht/2026
 -05-03-11-55
END:VEVENT
END:VCALENDAR
