BEGIN:VCALENDAR
VERSION:2.0
PRODID:-//kulturkreis-abbach.de//NONSGML kigkonsult.se iCalcreator 2.41.92//
CALSCALE:GREGORIAN
METHOD:PUBLISH
UID:64376232-6233-4839-a164-666432346231
X-WR-CALNAME:iCagenda
X-WR-CALDESC:Event Management Extension for Joomla!
X-WR-RELCALID:3E26604A-50F4-4449-8B3E-E4F4932D05B5
X-WR-TIMEZONE:Europe/Berlin
BEGIN:VTIMEZONE
TZID:Europe/Berlin
TZUNTIL:20271031T010000Z
BEGIN:STANDARD
TZNAME:CET
DTSTART:20251026T030000
TZOFFSETFROM:+0200
TZOFFSETTO:+0100
RDATE:20261025T030000
END:STANDARD
BEGIN:DAYLIGHT
TZNAME:CEST
DTSTART:20250330T020000
TZOFFSETFROM:+0100
TZOFFSETTO:+0200
RDATE:20260329T020000
RDATE:20270328T020000
END:DAYLIGHT
END:VTIMEZONE
BEGIN:VEVENT
UID:34616339-3662-4037-b835-366139326666
DTSTAMP:20260419T145232Z
CATEGORIES:Mittagsandacht
CLASS:PUBLIC
DESCRIPTION;ALTREP="CID:<FFFF__=0ABBE548DFE235B58f9e8a93d@coffeebean.com>":
 \nGaudiholz \nB-Klarinetten:&nbsp\;Winkler Helmut\, Wölfl Martin\, Wellan 
 Jeanette\, Steiner Nadine\, Gruber Karin&nbsp\;Altklarinette:&nbsp\;Vogl A
 lbert\,&nbsp\;Bassklarinette:&nbsp\;Zwicknagl Andreas
DTSTART:20260201T105500Z
DTEND:20260201T105500Z
GEO:00;0
LOCATION:
ORGANIZER:
SEQUENCE:1
SUMMARY:Mittagsandacht  gestaltet von Klarinettenensemble Gaudiholz
TRANSP:OPAQUE
URL:https://www.kulturkreis-abbach.de/mittagsandacht/mittagsandachten-statt
 gefundene-veranstaltungen/44-mittagsandacht-gestaltet-von-klarinettenensem
 ble-gaudiholz/2026-02-01-11-55
END:VEVENT
END:VCALENDAR
