BEGIN:VCALENDAR
VERSION:2.0
PRODID:-//kulturkreis-abbach.de//NONSGML kigkonsult.se iCalcreator 2.41.92//
CALSCALE:GREGORIAN
METHOD:PUBLISH
UID:66376566-3632-4138-b230-303237383132
X-WR-CALNAME:iCagenda
X-WR-CALDESC:Event Management Extension for Joomla!
X-WR-RELCALID:3E26604A-50F4-4449-8B3E-E4F4932D05B5
X-WR-TIMEZONE:Europe/Berlin
BEGIN:VTIMEZONE
TZID:Europe/Berlin
TZUNTIL:20251026T010000Z
BEGIN:STANDARD
TZNAME:CET
DTSTART:20231029T030000
TZOFFSETFROM:+0200
TZOFFSETTO:+0100
RDATE:20241027T030000
END:STANDARD
BEGIN:DAYLIGHT
TZNAME:CEST
DTSTART:20240331T020000
TZOFFSETFROM:+0100
TZOFFSETTO:+0200
RDATE:20250330T020000
END:DAYLIGHT
END:VTIMEZONE
BEGIN:VEVENT
UID:63626538-6664-4265-b130-363134653766
DTSTAMP:20260421T105724Z
CATEGORIES:Mittagsandacht
CLASS:PUBLIC
DESCRIPTION;ALTREP="CID:<FFFF__=0ABBE548DFE235B58f9e8a93d@coffeebean.com>":
 Tobias und Benedikt Welcher: Mut zum Wandel
DTSTART:20240407T180000Z
DTEND:20240407T180000Z
GEO:00;0
LOCATION:
ORGANIZER:
SEQUENCE:1
SUMMARY:Mut zum Wandel
TRANSP:OPAQUE
URL:https://www.kulturkreis-abbach.de/mittagsandacht/mittagsandachten-statt
 gefundene-veranstaltungen/25-mut-zum-wandel/2024-04-07-20-00
END:VEVENT
END:VCALENDAR
