BEGIN:VCALENDAR
VERSION:2.0
PRODID:-//kulturkreis-abbach.de//NONSGML kigkonsult.se iCalcreator 2.41.92//
CALSCALE:GREGORIAN
METHOD:PUBLISH
UID:35623839-3136-4438-b833-623533613539
X-WR-CALNAME:iCagenda
X-WR-CALDESC:Event Management Extension for Joomla!
X-WR-RELCALID:3E26604A-50F4-4449-8B3E-E4F4932D05B5
X-WR-TIMEZONE:Europe/Berlin
BEGIN:VTIMEZONE
TZID:Europe/Berlin
TZUNTIL:20250330T010000Z
BEGIN:STANDARD
TZNAME:CET
DTSTART:20221030T030000
TZOFFSETFROM:+0200
TZOFFSETTO:+0100
RDATE:20231029T030000
RDATE:20241027T030000
END:STANDARD
BEGIN:DAYLIGHT
TZNAME:CEST
DTSTART:20230326T020000
TZOFFSETFROM:+0100
TZOFFSETTO:+0200
RDATE:20240331T020000
END:DAYLIGHT
END:VTIMEZONE
BEGIN:VEVENT
UID:64323265-3362-4636-b132-383163626365
DTSTAMP:20260425T132941Z
CATEGORIES:Mittagsandacht
CLASS:PUBLIC
DESCRIPTION;ALTREP="CID:<FFFF__=0ABBE548DFE235B58f9e8a93d@coffeebean.com>":
 Petra Knapek (Gesang)\, Aleksander Huber (Vionolcello)\, Petra Klein (Viol
 ine)\, Rudolf Fischer (Orgel)
DTSTART:20230507T180000Z
DTEND:20230507T180000Z
GEO:00;0
LOCATION:
ORGANIZER:
SEQUENCE:1
SUMMARY:Gesang mit Begleitung
TRANSP:OPAQUE
URL:https://www.kulturkreis-abbach.de/mittagsandacht/mittagsandachten-statt
 gefundene-veranstaltungen/16-gesang-mit-begleitung/2023-05-07-20-00
END:VEVENT
END:VCALENDAR
