BEGIN:VCALENDAR
VERSION:2.0
PRODID:-//kulturkreis-abbach.de//NONSGML kigkonsult.se iCalcreator 2.41.92//
CALSCALE:GREGORIAN
METHOD:PUBLISH
UID:32663734-3364-4530-b265-626533383632
X-WR-CALNAME:iCagenda
X-WR-CALDESC:Event Management Extension for Joomla!
X-WR-RELCALID:3E26604A-50F4-4449-8B3E-E4F4932D05B5
X-WR-TIMEZONE:Europe/Berlin
BEGIN:VTIMEZONE
TZID:Europe/Berlin
TZUNTIL:20241027T010000Z
BEGIN:STANDARD
TZNAME:CET
DTSTART:20221030T030000
TZOFFSETFROM:+0200
TZOFFSETTO:+0100
RDATE:20231029T030000
END:STANDARD
BEGIN:DAYLIGHT
TZNAME:CEST
DTSTART:20220327T020000
TZOFFSETFROM:+0100
TZOFFSETTO:+0200
RDATE:20230326T020000
RDATE:20240331T020000
END:DAYLIGHT
END:VTIMEZONE
BEGIN:VEVENT
UID:66346336-3937-4864-a362-663866666432
DTSTAMP:20260425T133221Z
CATEGORIES:Mittagsandacht
CLASS:PUBLIC
DESCRIPTION;ALTREP="CID:<FFFF__=0ABBE548DFE235B58f9e8a93d@coffeebean.com>":
 „Mälzel-Quartett“ (Streicher)
DTSTART:20221218T190000Z
DTEND:20221218T190000Z
GEO:00;0
LOCATION:
ORGANIZER:
SEQUENCE:1
SUMMARY:Streicher
TRANSP:OPAQUE
URL:https://www.kulturkreis-abbach.de/mittagsandacht/mittagsandachten-statt
 gefundene-veranstaltungen/10-streicher/2022-12-18-20-00
END:VEVENT
END:VCALENDAR
