BEGIN:VCALENDAR
VERSION:2.0
PRODID:-//kulturkreis-abbach.de//NONSGML kigkonsult.se iCalcreator 2.41.92//
CALSCALE:GREGORIAN
METHOD:PUBLISH
UID:36663634-6139-4165-b764-303732383166
X-WR-CALNAME:iCagenda
X-WR-CALDESC:Event Management Extension for Joomla!
X-WR-RELCALID:3E26604A-50F4-4449-8B3E-E4F4932D05B5
X-WR-TIMEZONE:Europe/Berlin
BEGIN:VTIMEZONE
TZID:Europe/Berlin
TZUNTIL:20271031T010000Z
BEGIN:STANDARD
TZNAME:CET
DTSTART:20251026T030000
TZOFFSETFROM:+0200
TZOFFSETTO:+0100
RDATE:20261025T030000
END:STANDARD
BEGIN:DAYLIGHT
TZNAME:CEST
DTSTART:20250330T020000
TZOFFSETFROM:+0100
TZOFFSETTO:+0200
RDATE:20260329T020000
RDATE:20270328T020000
END:DAYLIGHT
END:VTIMEZONE
BEGIN:VEVENT
UID:62366361-6664-4333-a336-383530376335
DTSTAMP:20260419T143628Z
CATEGORIES:Konzert
CLASS:PUBLIC
DESCRIPTION;ALTREP="CID:<FFFF__=0ABBE548DFE235B58f9e8a93d@coffeebean.com>":
 PASSIONSKONZERT - ART VOKAL\nWerke von Schein\, Brahms\, Copland u.a.\nIm 
 Zentrum des Konzerts stehen die großen Bußpsalmen der abendländischen Trad
 ition.&nbsp\;\nUnter der Leitung von Steven J. Heelein gibt ART VOKAL dies
 en Klagegesängen und Bittrufen einen intimen\, zugleich farbigen Rahmen. E
 in Konzert\, das Raum gibt\, innezuhalten und sich auf das Wesentliche der
  Passionszeit einzulassen.\nDas Konzert findet am Sonntag\, den 29.03.2026
  um 16.00 Uhr in der Kirche Sankt Nikolaus\, Bad Abbach\, statt.&nbsp\;\nD
 er Eintritt ist frei.\n&nbsp\; &nbsp\; &nbsp\; &nbsp\; &nbsp\; &nbsp\; &nb
 sp\;&nbsp\;
DTSTART:20260329T140000Z
DTEND:20260329T140000Z
GEO:00;0
LOCATION:Kirche St. Nikolaus\, Bad Abbach
ORGANIZER:
SEQUENCE:1
SUMMARY:Passionskonzert   ART VOKAL
TRANSP:OPAQUE
URL:https://www.kulturkreis-abbach.de/konzert/stattgefundene-konzerte/54-pa
 ssionskonzert-art-vokal/2026-03-29-16-00
END:VEVENT
END:VCALENDAR
