BEGIN:VCALENDAR
VERSION:2.0
PRODID:-//kulturkreis-abbach.de//NONSGML kigkonsult.se iCalcreator 2.41.92//
CALSCALE:GREGORIAN
METHOD:PUBLISH
UID:62653936-6361-4231-b866-366666313265
X-WR-CALNAME:iCagenda
X-WR-CALDESC:Event Management Extension for Joomla!
X-WR-RELCALID:3E26604A-50F4-4449-8B3E-E4F4932D05B5
X-WR-TIMEZONE:Europe/Berlin
BEGIN:VTIMEZONE
TZID:Europe/Berlin
TZUNTIL:20261025T010000Z
BEGIN:STANDARD
TZNAME:CET
DTSTART:20241027T030000
TZOFFSETFROM:+0200
TZOFFSETTO:+0100
RDATE:20251026T030000
END:STANDARD
BEGIN:DAYLIGHT
TZNAME:CEST
DTSTART:20240331T020000
TZOFFSETFROM:+0100
TZOFFSETTO:+0200
RDATE:20250330T020000
RDATE:20260329T020000
END:DAYLIGHT
END:VTIMEZONE
BEGIN:VEVENT
UID:37393239-6166-4531-b661-313366386137
DTSTAMP:20260421T124739Z
CATEGORIES:Ausstellung
CLASS:PUBLIC
DESCRIPTION;ALTREP="CID:<FFFF__=0ABBE548DFE235B58f9e8a93d@coffeebean.com>":
 HEILIGER NIKOLAUS&nbsp\; -&nbsp\; VON DER LEGENDE ZUR GEGENWART\n06.12.24 
 – 15.12.24\nAusstellungseröffnung am 6. Dezember 2024 um 18 Uhr\nIn der Au
 sstellung werden die vielseitigen Facetten des Heiligen Nikolaus in unsere
 r heutigen Zeit und seiner historischen Vergangenheit beleuchtet.\nGeöffne
 t:\nMo – Fr von 15 Uhr bis 16 Uhr\nSa – So 14 Uhr bis 16 Uhr\nEinladung al
 s PDF Datei zum Download --&gt\; Einladung.pdf\nHeiliger Nikolaus: Von der
  Legende zur Gegenwart\nAm Freitag\, den 6. Dezember 2024\, feierte die Ki
 rche St. Nikolaus die feierliche Eröffnung einer außergewöhnlichen Ausstel
 lung\, die den heiligen Nikolaus in all seinen Facetten beleuchtete. Unter
  dem Titel „Heiliger Nikolaus: Von der Legende zur Gegenwart“ führte die A
 usstellung die Besucher durch verschiedene Stationen und erzählte die fasz
 inierende Geschichte des heiligen Nikolaus\, dessen Legenden und Werte bis
  heute lebendig sind.\nDie Ausstellung widmete sich nicht nur den bekannte
 n Attributen des heiligen Nikolaus\, wie seiner Bischofsmütze und seinem S
 tab\, sondern thematisierte auch seine zentrale Botschaft von Großzügigkei
 t und Nächstenliebe. An verschiedenen Stationen wurde aufgezeigt\, wie die
  Werte in den Gruppen und Initiativen der Pfarrei gelebt werden. Die Besuc
 her konnten sich auf eine inspirierende Reise begeben\, die die Verbindung
  zwischen den historischen Taten des heiligen Nikolaus und dem heutigen En
 gagement in der Gemeinde verdeutlichte.\nBesonders amüsant waren die inter
 nationalen Nikolausbräuche\, die in der Ausstellung vorgestellt wurden. So
  wurde unter anderem berichtet\, dass der Nikolaus in Brasilien mit dem Hu
 bschrauber in einem Fußballstadion landet und dort eine große Feier verans
 taltet.\nDie Ausstellung thematisierte auch den Einfluss des Kommerzes auf
  das Nikolausfest. In einem speziellen Bereich wurde die Veränderung im Br
 auchtum und die Vermarktung in der modernen Gesellschaft kritisch beleucht
 et.\nDie Eröffnung begann mit einer Ansprache des Vorsitzenden des Kultur-
  und Förderkreises\, Pfarrer Anton Dinzinger\, der die Besucher willkommen
  hieß. Nach einer musikalischen Einlage durch die ansässige Flötengruppe e
 rfolgte eine thematische Einführung in die einzelnen Teile der Ausstellung
 . Die Improvisationen an der Orgel zum Kinderlied „Lasst uns froh und munt
 er sein“ durch Professor Norbert Düchtel beeindruckten alle Besucher. Als 
 besondere Überraschung erschien der heilige Nikolaus höchstpersönlich\, um
  seine Botschaft zu verkünden. In einem traditionellen Gewand trat er vor 
 die versammelten Gäste und zog sofort die Aufmerksamkeit auf sich.\nDer Ku
 ltur- und Förderkreis St. Nikolaus hat mit dieser Ausstellung ein gelungen
 es Projekt ins Leben gerufen\, das sowohl informierte als auch um Nachdenk
 en anregte.\n{gallery}Ausstellung/hlnikolaus{/gallery}
DTSTART:20241215T170000Z
DTEND:20241215T170000Z
GEO:00;0
LOCATION:
ORGANIZER:
SEQUENCE:1
SUMMARY:HEILIGER NIKOLAUS  -  VON DER LEGENDE ZUR GEGENWART
TRANSP:OPAQUE
URL:https://www.kulturkreis-abbach.de/ausstellung/vergangene-ausstellungen/
 6-heiliger-nikolaus-von-der-legende-zur-gegenwart/2024-12-15-18-00
END:VEVENT
END:VCALENDAR
