BEGIN:VCALENDAR
VERSION:2.0
PRODID:-//kulturkreis-abbach.de//NONSGML kigkonsult.se iCalcreator 2.41.92//
CALSCALE:GREGORIAN
METHOD:PUBLISH
UID:61646431-6165-4965-a134-343733356462
X-WR-CALNAME:iCagenda
X-WR-CALDESC:Event Management Extension for Joomla!
X-WR-RELCALID:3E26604A-50F4-4449-8B3E-E4F4932D05B5
X-WR-TIMEZONE:Europe/Berlin
BEGIN:VTIMEZONE
TZID:Europe/Berlin
TZUNTIL:20271031T010000Z
BEGIN:STANDARD
TZNAME:CET
DTSTART:20251026T030000
TZOFFSETFROM:+0200
TZOFFSETTO:+0100
RDATE:20261025T030000
END:STANDARD
BEGIN:DAYLIGHT
TZNAME:CEST
DTSTART:20250330T020000
TZOFFSETFROM:+0100
TZOFFSETTO:+0200
RDATE:20260329T020000
RDATE:20270328T020000
END:DAYLIGHT
END:VTIMEZONE
BEGIN:VEVENT
UID:35306535-3465-4365-b462-396436396539
DTSTAMP:20260419T163332Z
CATEGORIES:Ausstellung
CLASS:PUBLIC
DESCRIPTION;ALTREP="CID:<FFFF__=0ABBE548DFE235B58f9e8a93d@coffeebean.com>":
 'SELIG\, DIE FRIEDEN STIFTEN' (Mt 5\,9) - WERKE VON JÖRG LÄNGER\nHerzliche
  Einladung zur Ausstellung!\n13. März 2026 bis 27. März 2026 jeweils von 1
 0..00 Uhr bis 16.00 Uhr in der Kirche St. Nikolaus in Bad Abbach\nDas Kuns
 tprojekt 'Da sein' des Diözesanmuseums Regensburg bringt zeitgenössische K
 unst in die Pfarreien des Bistums Regensburg.&nbsp\;\nInspiriert von der B
 ibelstelle 'Selig\, die Frieden stiften' (Mt 5\,9) setzt sich&nbsp\; der K
 ünstler Jörg Länger in seinen Werken mit dem Wunsch nach Frieden auseinand
 er.\n&nbsp\;\n&nbsp\; &nbsp\; &nbsp\; &nbsp\; &nbsp\; &nbsp\; &nbsp\;&nbsp
 \;
DTSTART:20260319T090000Z
DTEND:20260319T150000Z
GEO:00;0
LOCATION:Kirche St. Nikolaus\, Bad Abbach
ORGANIZER:
SEQUENCE:1
SUMMARY:Ausstellung: 'Selig\, die Frieden stiften'\, (Mt 5\,9)
TRANSP:OPAQUE
URL:https://www.kulturkreis-abbach.de/ausstellung/vergangene-ausstellungen/
 53-ausstellung-selig-die-frieden-stiften-mt-5-92/2026-03-19-10-00
END:VEVENT
END:VCALENDAR
