BEGIN:VCALENDAR
VERSION:2.0
PRODID:-//kulturkreis-abbach.de//NONSGML kigkonsult.se iCalcreator 2.41.92//
CALSCALE:GREGORIAN
METHOD:PUBLISH
UID:36386661-6532-4536-b862-613733303334
X-WR-CALNAME:iCagenda
X-WR-CALDESC:Event Management Extension for Joomla!
X-WR-RELCALID:3E26604A-50F4-4449-8B3E-E4F4932D05B5
X-WR-TIMEZONE:Europe/Berlin
BEGIN:VTIMEZONE
TZID:Europe/Berlin
TZUNTIL:20271031T010000Z
BEGIN:STANDARD
TZNAME:CET
DTSTART:20251026T030000
TZOFFSETFROM:+0200
TZOFFSETTO:+0100
RDATE:20261025T030000
END:STANDARD
BEGIN:DAYLIGHT
TZNAME:CEST
DTSTART:20250330T020000
TZOFFSETFROM:+0100
TZOFFSETTO:+0200
RDATE:20260329T020000
RDATE:20270328T020000
END:DAYLIGHT
END:VTIMEZONE
BEGIN:VEVENT
UID:61663062-3633-4632-b835-323136313764
DTSTAMP:20260419T162556Z
CATEGORIES:Ausstellung
CLASS:PUBLIC
DESCRIPTION;ALTREP="CID:<FFFF__=0ABBE548DFE235B58f9e8a93d@coffeebean.com>":
 'SELIG\, DIE FRIEDEN STIFTEN' (Mt 5\,9) - WERKE VON JÖRG LÄNGER\nHerzliche
  Einladung zur Ausstellungseröffnung!\n13. März 2026 um 18.00 Uhr in der K
 irche St. Nikolaus in Bad Abbach\nDas Kunstprojekt 'Da sein' des Diözesanm
 useums Regensburg bringt zeitgenössische Kunst in die Pfarreien des Bistum
 s Regensburg.&nbsp\;\nInspiriert von der Bibelstelle 'Selig\, die Frieden 
 stiften' (Mt 5\,9) setzt sich&nbsp\; der Künstler Jörg Länger in seinen We
 rken mit dem Wunsch nach Frieden auseinander.\n&nbsp\;
DTSTART:20260312T230000Z
DTEND:20260313T200000Z
GEO:00;0
LOCATION:Kirche St. Nikolaus\, Bad Abbach
ORGANIZER:
SEQUENCE:1
SUMMARY:Ausstellungseröffnung - 'Selig\, die Frieden stiften' (Mt 5\,9)
TRANSP:OPAQUE
URL:https://www.kulturkreis-abbach.de/ausstellung/vergangene-ausstellungen/
 51-ausstellungseroeffnung-selig-die-frieden-stiften-mt-5-9
END:VEVENT
END:VCALENDAR
