BEGIN:VCALENDAR
VERSION:2.0
PRODID:-//kulturkreis-abbach.de//NONSGML kigkonsult.se iCalcreator 2.41.92//
CALSCALE:GREGORIAN
METHOD:PUBLISH
UID:63306261-6265-4238-a663-313162393036
X-WR-CALNAME:iCagenda
X-WR-CALDESC:Event Management Extension for Joomla!
X-WR-RELCALID:3E26604A-50F4-4449-8B3E-E4F4932D05B5
X-WR-TIMEZONE:Europe/Berlin
BEGIN:VTIMEZONE
TZID:Europe/Berlin
TZUNTIL:20270328T010000Z
BEGIN:STANDARD
TZNAME:CET
DTSTART:20241027T030000
TZOFFSETFROM:+0200
TZOFFSETTO:+0100
RDATE:20251026T030000
RDATE:20261025T030000
END:STANDARD
BEGIN:DAYLIGHT
TZNAME:CEST
DTSTART:20250330T020000
TZOFFSETFROM:+0100
TZOFFSETTO:+0200
RDATE:20260329T020000
END:DAYLIGHT
END:VTIMEZONE
BEGIN:VEVENT
UID:65663063-6230-4662-a534-323132666465
DTSTAMP:20260421T124516Z
CATEGORIES:Ausstellung
CLASS:PUBLIC
DESCRIPTION;ALTREP="CID:<FFFF__=0ABBE548DFE235B58f9e8a93d@coffeebean.com>":
 \n\n\n\n\n\n\n\n\n\nAusstellung in der Kirche Sankt Nikolaus\nGLAUBENSSCHÄ
 TZE - DIE KRAFT DER BIBELZITATE\nMIT HOLZSKULPTUREN VON LENA UTZ\nAM 02.05
 .2025 UM 18.00 UHR\nIN DER KIRCHE ST. NIKOLAUS
DTSTART:20250502T160000Z
DTEND:20250502T160000Z
GEO:00;0
LOCATION:
ORGANIZER:
SEQUENCE:1
SUMMARY:Ausstellungseröffnung - Glaubensschätze: Die Kraft der Bibelzitate
TRANSP:OPAQUE
URL:https://www.kulturkreis-abbach.de/ausstellung/vergangene-ausstellungen/
 36-glaubensschaetze-die-kraft-der-bibelzitate-2/2025-05-02-18-00
END:VEVENT
END:VCALENDAR
