BEGIN:VCALENDAR
VERSION:2.0
PRODID:-//kulturkreis-abbach.de//NONSGML kigkonsult.se iCalcreator 2.41.92//
CALSCALE:GREGORIAN
METHOD:PUBLISH
UID:36646134-6264-4232-b466-373364343834
X-WR-CALNAME:iCagenda
X-WR-CALDESC:Event Management Extension for Joomla!
X-WR-RELCALID:3E26604A-50F4-4449-8B3E-E4F4932D05B5
X-WR-TIMEZONE:Europe/Berlin
BEGIN:VTIMEZONE
TZID:Europe/Berlin
TZUNTIL:20250330T010000Z
BEGIN:STANDARD
TZNAME:CET
DTSTART:20221030T030000
TZOFFSETFROM:+0200
TZOFFSETTO:+0100
RDATE:20231029T030000
RDATE:20241027T030000
END:STANDARD
BEGIN:DAYLIGHT
TZNAME:CEST
DTSTART:20230326T020000
TZOFFSETFROM:+0100
TZOFFSETTO:+0200
RDATE:20240331T020000
END:DAYLIGHT
END:VTIMEZONE
BEGIN:VEVENT
UID:61343730-3964-4365-b833-623331346233
DTSTAMP:20260421T103941Z
CATEGORIES:Ausstellung
CLASS:PUBLIC
DESCRIPTION;ALTREP="CID:<FFFF__=0ABBE548DFE235B58f9e8a93d@coffeebean.com>":
 Fotoausstellung\nKOMMT UND SEHT\nJOH: 1\,39\nDie Kirche St. Nikolaus mit u
 ngewohntem Blick entdeckt.\nAusstellungseröffnung\nam 28. Mai 2023\nMusika
 lische Begleitung: &nbsp\;&nbsp\;&nbsp\;&nbsp\; TRITONUS BRASS\nFotoausste
 llung „Kommt und seht“ (Joh 1\,39)\nDiese ungewöhnliche Ausstellung lud di
 e Besucher ein\, die Kirche St. Nikolaus aus einer ganz anderen Perspektiv
 e zu betrachten und die oft übersehenen Details in den Mittelpunkt zu rück
 en.\nGroßformatige Detailaufnahmen der Kirche wurden auf Leinwände gedruck
 t und in verschiedenen Bereichen der Kirche ausgestellt. Diese visuelle Re
 ise durch die architektonischen und künstlerischen Feinheiten der Kirche e
 rmöglichte es den Besuchern\, die Schönheit und Komplexität des Bauwerks n
 eu zu entdecken. Jede Aufnahme\, sei es von filigranen Verzierungen\, beei
 ndruckenden Fenstern oder einzigartigen Strukturen regten zum Staunen und 
 Nachdenken an.\nDie Ausstellung verfolgte das Ziel\, den Betrachtern einen
  frischen Blick auf die Kirche zu ermöglichen. Durch die Fokussierung auf 
 Details\, die im alltäglichen Kirchenbesuch oft übersehen werden\, entsteh
 t ein neues Verständnis für die Gesamtheit des Raumes.\nDie verschiedenen 
 Perspektiven der Aufnahmen luden dazu ein\, die Kirche nicht nur als einen
  Raum der Andacht\, sondern auch als ein Kunstwerk an sich zu sehen.\n{gal
 lery}Ausstellung/kommtundseht{/gallery}\n&nbsp\;
DTSTART:20230528T060000Z
DTEND:20230528T060000Z
GEO:00;0
LOCATION:
ORGANIZER:
SEQUENCE:1
SUMMARY:Kommt und seht
TRANSP:OPAQUE
URL:https://www.kulturkreis-abbach.de/ausstellung/vergangene-ausstellungen/
 32-kommt-und-seht/2023-05-28-08-00
END:VEVENT
END:VCALENDAR
